BEGIN:VCALENDAR
VERSION:2.0
PRODID:-//ExpressionEngine Easy iCalendar plugin//NONSGML v2.0.0//EN
X-WR-TIMEZONE:America/Chicago
X-WR-CALNAME:Upcoming Auctions
BEGIN:VEVENT
UID:159868
DTSTAMP:20260404T090000
DTSTART:20260404T090000
DTEND:20260510T100000
SUMMARY:May Online Auction
LOCATION:{location}
DESCRIPTION:Taking Consignments for May Online Auction
URL:https://www.seyforthauction.com/auctions/detail/bw159868
SEQUENCE:1
END:VEVENT
END:VCALENDAR